﻿BEGIN:VCALENDAR
VERSION:2.0
PRODID:-//3 S 1 - ECPv6.1.1//NONSGML v1.0//EN
CALSCALE:GREGORIAN
METHOD:PUBLISH
X-WR-CALNAME:3 S 1
X-ORIGINAL-URL:https://www.3s1.at
X-WR-CALDESC:Events for 3 S 1
REFRESH-INTERVAL;VALUE=DURATION:PT1H
X-Robots-Tag:noindex
X-PUBLISHED-TTL:PT1H
BEGIN:VTIMEZONE
TZID:Europe/Berlin
BEGIN:DAYLIGHT
TZOFFSETFROM:+0100
TZOFFSETTO:+0200
TZNAME:CEST
DTSTART:20240331T010000
END:DAYLIGHT
BEGIN:STANDARD
TZOFFSETFROM:+0200
TZOFFSETTO:+0100
TZNAME:CET
DTSTART:20241027T010000
END:STANDARD
END:VTIMEZONE
BEGIN:VEVENT
DTSTART;TZID=Europe/Berlin:20240319T200000
DTEND;TZID=Europe/Berlin:20240319T233000
DTSTAMP:20260425T234909
CREATED:20240111T204946Z
LAST-MODIFIED:20240112T190704Z
UID:1540-1710878400-1710891000@www.3s1.at
SUMMARY:Open House Blues Session
DESCRIPTION:Wie jedes Jahr wird der ViennaBluesSpring mit der Open House Blues Session bei freiem Eintritt eröffnet.\nDer traditionelle Treffpunkt der wiener Blues Szene vor Beginn des Festivals. Die Sessionleitung übernimmt wieder Herby Dunkel.
URL:https://www.3s1.at/event/open-house-blues-session/
LOCATION:REIGEN live\, Hadikgasse 62\, Wien\, Wien\, 1140\, Österreich
CATEGORIES:Konzerte
ATTACH;FMTTYPE=image/jpeg:https://www.3s1.at/wp-content/uploads/2024/01/herby_dunkel_001_copyright_dietmar_hoscher-a52f974b.jpg
ORGANIZER;CN="Kulturverein%20REIGEN":MAILTO:kulturverein@reigen.at
END:VEVENT
BEGIN:VEVENT
DTSTART;TZID=Europe/Berlin:20240323T203000
DTEND;TZID=Europe/Berlin:20240323T233000
DTSTAMP:20260425T234909
CREATED:20240111T205241Z
LAST-MODIFIED:20240112T190606Z
UID:1543-1711225800-1711236600@www.3s1.at
SUMMARY:Rudi Biber
DESCRIPTION:TICKETS -> www.reigen.at/event/rudi-biber/\nRudi Biber`s Electric Blues Band steht für feinsten Blues Rock. Musik wie sie sein soll. Live\, ehrlich\, erdig und vom Herzen kommend. \nRUDI BIBER Guitar & Vocals\, Mike Amon Drums\, Wolfgang Glück Bass\, Franz Haselsteiner Keys\, Wolfgang Medlitsch Sax\, Jimi Ivan Trumpet. \nEin Pflichttermin für jeden Blues Liebhaber
URL:https://www.3s1.at/event/rudi-biber/
LOCATION:REIGEN live\, Hadikgasse 62\, Wien\, Wien\, 1140\, Österreich
CATEGORIES:Konzerte
ATTACH;FMTTYPE=image/jpeg:https://www.3s1.at/wp-content/uploads/2024/01/rudi-biber-23.3.24.jpg
ORGANIZER;CN="Kulturverein%20REIGEN":MAILTO:kulturverein@reigen.at
END:VEVENT
END:VCALENDAR