﻿BEGIN:VCALENDAR
VERSION:2.0
PRODID:-//3 S 1 - ECPv6.1.1//NONSGML v1.0//EN
CALSCALE:GREGORIAN
METHOD:PUBLISH
X-WR-CALNAME:3 S 1
X-ORIGINAL-URL:https://www.3s1.at
X-WR-CALDESC:Events for 3 S 1
REFRESH-INTERVAL;VALUE=DURATION:PT1H
X-Robots-Tag:noindex
X-PUBLISHED-TTL:PT1H
BEGIN:VTIMEZONE
TZID:Europe/Berlin
BEGIN:DAYLIGHT
TZOFFSETFROM:+0100
TZOFFSETTO:+0200
TZNAME:CEST
DTSTART:20240331T010000
END:DAYLIGHT
BEGIN:STANDARD
TZOFFSETFROM:+0200
TZOFFSETTO:+0100
TZNAME:CET
DTSTART:20241027T010000
END:STANDARD
END:VTIMEZONE
BEGIN:VEVENT
DTSTART;TZID=Europe/Berlin:20240525T193000
DTEND;TZID=Europe/Berlin:20240525T233000
DTSTAMP:20260425T210455
CREATED:20240111T195948Z
LAST-MODIFIED:20240113T202056Z
UID:1529-1716665400-1716679800@www.3s1.at
SUMMARY:twentyfive are we: let´s dig RnB
DESCRIPTION:TICKETS -> direkt beim Veranstalter\n  \n25 Jahre und kein bisschen leise!\nWas bleibt da anderes übrig\, als ein “Festival of fun” zu feiern.\nUnd seien wir uns ehrlich – gibt es bessere Gründe zum Feiern? Wir denken nicht! \nDie Band hat sich zu diesem Anlass natürlich wieder ein paar Specials rund um die Show\, die die Reise durch Funk\, Soul\, Rnb\, Rock‘nRoll und Blues begleitet\, einfallen lassen. \nDas Motto gemäß Elwood & Jake bleibt gleich:\n„ It’s 106 miles to Chicago\, we got a full tank of gas\, half a pack of cigarettes\, it’s dark… and we’re wearing sunglasses.” \nund somit können wir nur sagen: …bis zum Orpheum geht es sich auf jeden Fall aus – so HIT IT … aber richtig! \nRuhig sitzen können Sie woanders – bei dieser Band gibt es eine einzigartige Party zum Mittanzen und Mitsingen. \n 
URL:https://www.3s1.at/event/twentyfive-are-we-lets-dig-rnb/
LOCATION:ORPHEUM / Wien\, Steigenteschgasse 94\, Wien\, 1220\, Österreich
CATEGORIES:Konzerte
ATTACH;FMTTYPE=image/jpeg:https://www.3s1.at/wp-content/uploads/2024/01/Veranstaltungslogo-2024-neu.jpg
ORGANIZER;CN="BBSH":MAILTO:office@gobbsh.com
END:VEVENT
END:VCALENDAR