﻿BEGIN:VCALENDAR
VERSION:2.0
PRODID:-//3 S 1 - ECPv6.1.1//NONSGML v1.0//EN
CALSCALE:GREGORIAN
METHOD:PUBLISH
X-ORIGINAL-URL:https://www.3s1.at
X-WR-CALDESC:Events for 3 S 1
REFRESH-INTERVAL;VALUE=DURATION:PT1H
X-Robots-Tag:noindex
X-PUBLISHED-TTL:PT1H
BEGIN:VTIMEZONE
TZID:Europe/Berlin
BEGIN:DAYLIGHT
TZOFFSETFROM:+0100
TZOFFSETTO:+0200
TZNAME:CEST
DTSTART:20240331T010000
END:DAYLIGHT
BEGIN:STANDARD
TZOFFSETFROM:+0200
TZOFFSETTO:+0100
TZNAME:CET
DTSTART:20241027T010000
END:STANDARD
END:VTIMEZONE
BEGIN:VEVENT
DTSTART;TZID=Europe/Berlin:20240405T203000
DTEND;TZID=Europe/Berlin:20240405T233000
DTSTAMP:20260425T235337
CREATED:20240111T205815Z
LAST-MODIFIED:20240112T185911Z
UID:1547-1712349000-1712359800@www.3s1.at
SUMMARY:Viennese Ladies
DESCRIPTION:TICKETS -> www.reigen.at/event/viennese-ladies/\n\nMit ihrer speziellen Mischung aus Blues\, Funk\, Jazz und Soul lässt die Generationen übergreifende Band Viennese Ladies auf dem Debüt-Album „Enlightenment“ aufhorchen. Das Selbstbewusstsein der Band spiegelt sich auch am Foto des Albumcovers wider\, einer Nachstellung des berühmten Gemäldes „Das Abendmahl“ von Leonardo da Vinci.\nBegonnen hat alles 2017 mit Coverversionen aus dem Oeuvre der grandiosen Etta James (1938-2012). Mit der Zeit entwickelte sich Viennese Ladies zu einem Kollektiv\, das sich Eigenkompositionen erarbeitete. Und jetzt also dieses schmucke Album\, „Enlightenment“\, das wie aus einem Guss daherkommt. Die Songs wurden im Studio „The Baumhouse“ von Polio Brezina aufgenommen und gemischt. Obwohl viele Komponistinnen am Werk waren\, schaffte es die Band tatsächlich einen einheitlichen Sound zu kreieren\, der international konkurrenzfähig ist\, mit 14 eigenen Songs von melodischer Schönheit femininer Schaffenskraft.  Text: Manfred Horak (Kulturwoche)\n\nDie Musikerinnen stammen aus den USA\, Großbritannien\, Schweiz\, Belgien\, Bulgarien und Österreich und haben allesamt ihren Lebensmittelpunkt in Wien gefunden. \nLine up:\nBetty Semper (Voc.)\, Kim Cooper (Voc.)\, Meena Cryle (Voc.)\, Aminata Seydi (Voc.)\, N!DDL (Voc.)\, Claudia K. (Bass\, Voc.\, Bandleader)\, Beate Reiermann (Gitarre)\, Philippine Duchateau (Klavier)\, Martina „Harpina“ Defant (Mundharmonika)\, Maria Petrova (Schlagzeug)\, Silke Gert (Saxophon) und Daniela Lang (Trompete). \n 
URL:https://www.3s1.at/event/viennese-ladies/
LOCATION:REIGEN live\, Hadikgasse 62\, Wien\, Wien\, 1140\, Österreich
CATEGORIES:Konzerte
ATTACH;FMTTYPE=image/jpeg:https://www.3s1.at/wp-content/uploads/2024/01/VienneseLadies_ALLE_cGerry_Frank_kleiner-.jpg
ORGANIZER;CN="Kulturverein%20REIGEN":MAILTO:kulturverein@reigen.at
END:VEVENT
END:VCALENDAR