﻿BEGIN:VCALENDAR
VERSION:2.0
PRODID:-//3 S 1 - ECPv6.1.1//NONSGML v1.0//EN
CALSCALE:GREGORIAN
METHOD:PUBLISH
X-WR-CALNAME:3 S 1
X-ORIGINAL-URL:https://www.3s1.at
X-WR-CALDESC:Events for 3 S 1
REFRESH-INTERVAL;VALUE=DURATION:PT1H
X-Robots-Tag:noindex
X-PUBLISHED-TTL:PT1H
BEGIN:VTIMEZONE
TZID:Europe/Berlin
BEGIN:DAYLIGHT
TZOFFSETFROM:+0100
TZOFFSETTO:+0200
TZNAME:CEST
DTSTART:20240331T010000
END:DAYLIGHT
BEGIN:STANDARD
TZOFFSETFROM:+0200
TZOFFSETTO:+0100
TZNAME:CET
DTSTART:20241027T010000
END:STANDARD
END:VTIMEZONE
BEGIN:VEVENT
DTSTART;TZID=Europe/Berlin:20240413T180000
DTEND;TZID=Europe/Berlin:20240413T230000
DTSTAMP:20260425T235152
CREATED:20240111T195256Z
LAST-MODIFIED:20240112T191013Z
UID:1526-1713031200-1713049200@www.3s1.at
SUMMARY:ROCK & POP NIGHT VOL.3
DESCRIPTION:Tickets -> featured event\nDrei Acts / Top Headliner / tolles Ambiente!\n  \nOSTWÄRTS –\nGegründet 2017 spielten die „Ostwärts-Buam“ bis heute zahlreiche Konzerte und gehören mittlerweile zu einer der besten Ostbahn Kurti Tribute Bands Österreichs. \nDie Mission\, das großartige Liedgut von Kurt Ostbahn nicht in Vergessenheit geraten zu lassen\, hat mit dem Ableben von Willi Resetarits nochmals an Emotion und Bedeutung gewonnen. \nFreuen Sie sich auf zarte und wilde Interpretationen der „Besten Liada“ von Kurt Ostbahn\, verfeinert mit wenigen und ausgewählten Coverversionen bekannter Songs mit eigenen Texten im „Ostbahn-Stil“. \n\nCROSSROXX\nDie Band hat es sich zur Aufgabe gemacht\, den guten alten Rock der 70er\, 80\, und 90 er Jahre am Leben zu erhalten. Mit Songs der goldenen Rock Ära wird auf der Bühne ein wahres Feuerwerk gezündet. \nDafür sorgen vor allem die Sängerinnen\, die mit ihren tollen Stimmen den Songs die nötige Präsenz verleihen. \nUm sie herum geben rockige Drums\, schneidende Gitarren Riffs und tiefe Basssounds das nötige Rockfeeling. \nDaher ist es für Fans von guter Rockmusik immer ein Erlebnis\, Konzerte und Veranstaltungen von CROSSROXX zu besuchen. \n\nGOSCHART\nDie vier Musiker begeistern mit einer knackigen Mischung aus Pop\, Funk & Walzerpolka garniert mit pointierten Texten und spielerischer\nLeichtigkeit. \nInhaltlich steht der ganz normale Alltag – mitsamt seinen kleinen Höhen und Tiefen – im Mittelpunkt des musikalischen Schaffens der Dialektmusikformation. \nOb auf der Almhütte\, im Biergarten oder am Stadtfest – GOSCHART sorgen durch Publikumskontakt auf Augenhöhe für ein Konzerterlebnis\, daß man auf keinen Fall verpassen sollte. \n 
URL:https://www.3s1.at/event/rock-pop-night-vol-3/
LOCATION:Schloss Neugebäude\, Otmar- Brix- Gasse 1\, Wien\, 1110\, Austria
CATEGORIES:Konzerte
ATTACH;FMTTYPE=image/jpeg:https://www.3s1.at/wp-content/uploads/2023/12/VA-Hauptbild-3s1-jerry-800-400-v3.jpg
ORGANIZER;CN="Jerry%20Mailer":MAILTO:jerry.mailer@gmx.at
END:VEVENT
END:VCALENDAR