﻿BEGIN:VCALENDAR
VERSION:2.0
PRODID:-//3 S 1 - ECPv6.1.1//NONSGML v1.0//EN
CALSCALE:GREGORIAN
METHOD:PUBLISH
X-WR-CALNAME:3 S 1
X-ORIGINAL-URL:https://www.3s1.at
X-WR-CALDESC:Events for 3 S 1
REFRESH-INTERVAL;VALUE=DURATION:PT1H
X-Robots-Tag:noindex
X-PUBLISHED-TTL:PT1H
BEGIN:VTIMEZONE
TZID:Europe/Berlin
BEGIN:DAYLIGHT
TZOFFSETFROM:+0100
TZOFFSETTO:+0200
TZNAME:CEST
DTSTART:20230326T010000
END:DAYLIGHT
BEGIN:STANDARD
TZOFFSETFROM:+0200
TZOFFSETTO:+0100
TZNAME:CET
DTSTART:20231029T010000
END:STANDARD
END:VTIMEZONE
BEGIN:VEVENT
DTSTART;TZID=Europe/Berlin:20230618T140000
DTEND;TZID=Europe/Berlin:20230618T170000
DTSTAMP:20260420T132711
CREATED:20230616T152600Z
LAST-MODIFIED:20230823T093201Z
UID:1380-1687096800-1687107600@www.3s1.at
SUMMARY:Harry Ahamer Solo - Spittal/Drau - Street Food Tour 2023
DESCRIPTION:Harry Ahamer Solo – Acoustic Blues\, Soul & Rocksongs in Mundart & Englisch \nLive im Rahmen der “STREET FOOD MARKET AUSTRIA TOUR 2023” \nNähere Infos unter: http://streetfoodmarket.at \nfoto: barbara wirl \nFACEBOOK-LINK: https://www.facebook.com/events/172184315193992 \n 
URL:https://www.3s1.at/event/harry-ahamer-solo-spittal-drau-street-food-tour-2023/
CATEGORIES:Konzerte
ATTACH;FMTTYPE=image/jpeg:https://www.3s1.at/wp-content/uploads/2023/06/335444227_759547029149810_3048737314731760162_n.jpg
END:VEVENT
BEGIN:VEVENT
DTSTART;TZID=Europe/Berlin:20230513T193000
DTEND;TZID=Europe/Berlin:20230513T233000
DTSTAMP:20260420T132711
CREATED:20221216T163754Z
LAST-MODIFIED:20230823T093229Z
UID:660-1684006200-1684020600@www.3s1.at
SUMMARY:next stop: Blues BROTHERS
DESCRIPTION:Im 24. Jahr ihres Programms bleibt kein Stein auf dem Anderen.\nDie Brüder sind wieder vereint und die Energie die von der Bühne strömt\, gleicht einem Tsunami. Die komplett überarbeitete Show begleitet die Reise durch Funk\, Soul\, Rnb\, Rock‘nRoll und Blues bei der Rettung „ihres Kinderheims“ durch die „Blues Brüder“.\n \nGemäß Elwood & Jake: „It’s 106 miles to Chicago\, we got a full tank of gas\, half a pack of cigarettes\, it’s dark… and we’re wearing sunglasses.” können wir nur sagen: …das Orpheum ist näher – so HIT IT\n \nRuhig sitzen können Sie woanders – bei dieser Band gibt es eine einzigartige Party zum Mittanzen und Mitsingen.\n\n\n\n\n\n\n\n\n\n\n\n\n\n\n\n\n\n\n\n\n\n\nBESTELLEN SIE HIER MIT EINEM KLICK IHRE TICKETS! \n\n\n\n 
URL:https://www.3s1.at/event/next-stop-blues-brothers/
LOCATION:ORPHEUM / Wien\, Steigenteschgasse 94\, Wien\, 1220\, Österreich
CATEGORIES:Konzerte
ATTACH;FMTTYPE=image/jpeg:https://www.3s1.at/wp-content/uploads/2022/12/Veranstaltungslogo-2023.jpg
ORGANIZER;CN="BBSH":MAILTO:office@gobbsh.com
END:VEVENT
BEGIN:VEVENT
DTSTART;TZID=Europe/Berlin:20230317T203000
DTEND;TZID=Europe/Berlin:20230317T235500
DTSTAMP:20260420T132711
CREATED:20220920T074611Z
LAST-MODIFIED:20230823T093250Z
UID:560-1679085000-1679097300@www.3s1.at
SUMMARY:TIERSCHUTZ meets MUSIC
DESCRIPTION:Ticketlinks:\nREIGEN live   >>>   https://www.reigen.at/reigenevent/events/tierschutz-meets-music-harry-ahamer-band-id-17032023-reigen-live.html\nÖ-Ticket light   >>>   https://www.eventim-light.com/at/a/635e9f0408c4095da7a395b5/e/635eacf208c4095da7a395c8\nÖ-Ticket   >>>   https://www.oeticket.com/event/tierschutz-meets-music-harry-ahamer-band-reigen-live-16085147/\n\n\n\n\n\n\n\n\n\n\n\n\n\n\n\n\nEs ist dies unsere erste Veranstaltung unter dem Titel “Tierschutz meets music” – mit dem Besuch der Veranstaltung und dem Erwerb von Tickets geht ein Grossteil Ihrer Unterstützung an den Tierschutz und den Einsatz für die Rechte der Tiere. Wir hoffen bei diesem Konzept aus guter Unterhaltung für einen wichtigen Zweck auf Ihre Unterstützung.\nWir freuen uns\, HARRY AHAMER & BAND nach sehr langer Zeit wieder einmal in Wien zu präsentieren. Während HARRY AHAMER solo oder in kleiner Besetzung des Öfteren mit seinem Mundartprogramm hier Station macht\, ist sein Programm in grosser Besetzung mit Soul\, Funk und Rock im Repertoire eher selten in Wien zu sehen.\nAls Support präsentiert FLICKENTANZ Poesiemusik aus ihrem Programm „Eine von Vielen“ im Duo mit Jaxx Deen.\nWir freuen uns auf einen gelungenen Abend und bedanken uns schon hier bei allen Besuchern und Spendern.
URL:https://www.3s1.at/event/tierschutz-meets-music/
LOCATION:REIGEN live\, Hadikgasse 62\, Wien\, Wien\, 1140\, Österreich
CATEGORIES:Konzerte
ATTACH;FMTTYPE=image/jpeg:https://www.3s1.at/wp-content/uploads/2022/09/VA-IBT-2023-03-17_BILDER.jpg
ORGANIZER;CN="IBT":MAILTO:tierversuchsgegner@chello.at
END:VEVENT
END:VCALENDAR